View In:
ArcGIS JavaScript
ArcGIS Online Map Viewer
ArcGIS Earth
ArcMap
View Footprint In:
ArcGIS Online Map Viewer
Service Description: North_Carolina/Restoration_Explorer_Subtidal_Shoreline_Oyster_Reefs
Name: North_Carolina/Restoration_Explorer_Subtidal_Shoreline_Oyster_Reefs
Description:
Single Fused Map Cache: false
Extent:
XMin: -8774894.9731
YMin: 4008643.7547999993
XMax: -8400864.9731
YMax: 4376843.754799999
Spatial Reference: 102100
(3857)
Initial Extent:
XMin: -8774894.9731
YMin: 4008643.7547999993
XMax: -8400864.9731
YMax: 4376843.754799999
Spatial Reference: 102100
(3857)
Full Extent:
XMin: -8774894.9731
YMin: 4008643.7547999993
XMax: -8400864.9731
YMax: 4376843.754799999
Spatial Reference: 102100
(3857)
Pixel Size X: 10.0
Pixel Size Y: 10.0
Band Count: 10
Pixel Type: U8
RasterFunction Infos: {"rasterFunctionInfos": [{
"name": "None",
"description": "",
"help": ""
}]}
Mensuration Capabilities: Basic
Has Histograms: true
Has Colormap: false
Has Multi Dimensions : false
Rendering Rule:
Min Scale: 0
Max Scale: 0
Copyright Text:
Service Data Type: esriImageServiceDataTypeGeneric
Min Values: 0, 0, 0, 0, 0, 0, 0, 0, 0, 20
Max Values: 255, 255, 255, 255, 255, 255, 255, 255, 255, 255
Mean Values: 170.1722990653128, 169.88916314433865, 175.19563015756054, 177.01735620868683, 169.6904503586346, 178.8151349006367, 170.5776464198626, 170.14863818600023, 178.38892903525473, 177.44984163309758
Standard Deviation Values: 119.11310580457815, 119.5572870771857, 112.1327933608241, 109.32717916018963, 119.75832926919396, 107.4739198267654, 117.99778223308512, 119.23125668563662, 107.47397236152645, 108.41550818901568
Object ID Field:
Fields:
None
Default Mosaic Method: Center
Allowed Mosaic Methods:
SortField:
SortValue: null
Mosaic Operator: First
Default Compression Quality: 75
Default Resampling Method: Bilinear
Max Record Count: null
Max Image Height: 4100
Max Image Width: 15000
Max Download Image Count: null
Max Mosaic Image Count: null
Allow Raster Function: true
Allow Compute TiePoints: false
Supports Statistics: false
Supports Advanced Queries: false
Use StandardizedQueries: true
Raster Type Infos:
Name: Raster Dataset
Description: Supports all ArcGIS Raster Datasets
Help:
Has Raster Attribute Table: false
Edit Fields Info: null
Ownership Based AccessControl For Rasters: null
Child Resources:
Info
Histograms
Key Properties
Legend
MultiDimensionalInfo
rasterFunctionInfos
Supported Operations:
Export Image
Identify
Measure
Compute Histograms
Compute Statistics Histograms
Get Samples
Compute Class Statistics
Query Boundary
Compute Pixel Location