View In:
ArcGIS JavaScript
ArcGIS Online Map Viewer
ArcGIS Earth
ArcMap
View Footprint In:
ArcGIS Online Map Viewer
Service Description: North_Carolina/Restoration_Explorer_Subtidal_Deep_Water_Oyster_Reefs
Name: North_Carolina/Restoration_Explorer_Subtidal_Deep_Water_Oyster_Reefs
Description:
Single Fused Map Cache: false
Extent:
XMin: -8705877.038622364
YMin: 4010355.251965764
XMax: -8400877.038622364
YMax: 4377355.251965764
Spatial Reference: 102100
(3857)
Initial Extent:
XMin: -8705877.038622364
YMin: 4010355.251965764
XMax: -8400877.038622364
YMax: 4377355.251965764
Spatial Reference: 102100
(3857)
Full Extent:
XMin: -8705877.038622364
YMin: 4010355.251965764
XMax: -8400877.038622364
YMax: 4377355.251965764
Spatial Reference: 102100
(3857)
Pixel Size X: 1000.0
Pixel Size Y: 1000.0
Band Count: 17
Pixel Type: U8
RasterFunction Infos: {"rasterFunctionInfos": [{
"name": "None",
"description": "",
"help": ""
}]}
Mensuration Capabilities: Basic
Has Histograms: true
Has Colormap: false
Has Multi Dimensions : false
Rendering Rule:
Min Scale: 0
Max Scale: 0
Copyright Text:
Service Data Type: esriImageServiceDataTypeGeneric
Min Values: 0, 0, 0, 0, 0, 0, 0, 1, 1, 1, 1, 1, 1, 1, 1, 1, 1
Max Values: 1, 1, 1, 1, 1, 1, 1, 250, 250, 250, 250, 250, 250, 250, 250, 250, 250
Mean Values: 0.8604274134119381, 0.9952100221075902, 0.9820928518791452, 0.9727339719970524, 0.9478997789240973, 0.8784082535003684, 0.8022844509948416, 129.60294767870303, 93.2759027266028, 93.02601326455417, 128.51857037582903, 101.09926308032425, 111.37877671333824, 119.96764922623434, 90.86433308769344, 88.440972733972, 91.76337509211496
Standard Deviation Values: 0.34655581099590466, 0.06904625494698811, 0.13261892114256088, 0.16286358207377385, 0.22223732279670136, 0.3268257411758052, 0.39829110066764145, 93.12879080483141, 112.58908969739485, 113.19770287608557, 89.73279658098113, 107.54126709308, 103.46896512422914, 94.90227422787605, 114.48672049936175, 115.51827581810936, 113.6529612139758
Object ID Field:
Fields:
None
Default Mosaic Method: Center
Allowed Mosaic Methods:
SortField:
SortValue: null
Mosaic Operator: First
Default Compression Quality: 75
Default Resampling Method: Bilinear
Max Record Count: null
Max Image Height: 4100
Max Image Width: 15000
Max Download Image Count: null
Max Mosaic Image Count: null
Allow Raster Function: true
Allow Compute TiePoints: false
Supports Statistics: false
Supports Advanced Queries: false
Use StandardizedQueries: true
Raster Type Infos:
Name: Raster Dataset
Description: Supports all ArcGIS Raster Datasets
Help:
Has Raster Attribute Table: false
Edit Fields Info: null
Ownership Based AccessControl For Rasters: null
Child Resources:
Info
Histograms
Key Properties
Legend
MultiDimensionalInfo
rasterFunctionInfos
Supported Operations:
Export Image
Identify
Measure
Compute Histograms
Compute Statistics Histograms
Get Samples
Compute Class Statistics
Query Boundary
Compute Pixel Location