{
 "currentVersion": 10.71,
 "serviceDescription": "Caribbean/Restoration_Explorer_Cayman",
 "name": "Caribbean/Restoration_Explorer_Cayman",
 "description": "",
 "extent": {
  "xmin": -9069949.0793,
  "ymin": 2181286.417300001,
  "xmax": -9024049.0793,
  "ymax": 2202786.417300001,
  "spatialReference": {
   "wkid": 102100,
   "latestWkid": 3857
  }
 },
 "initialExtent": {
  "xmin": -9069949.0793,
  "ymin": 2181286.417300001,
  "xmax": -9024049.0793,
  "ymax": 2202786.417300001,
  "spatialReference": {
   "wkid": 102100,
   "latestWkid": 3857
  }
 },
 "fullExtent": {
  "xmin": -9069949.0793,
  "ymin": 2181286.417300001,
  "xmax": -9024049.0793,
  "ymax": 2202786.417300001,
  "spatialReference": {
   "wkid": 102100,
   "latestWkid": 3857
  }
 },
 "pixelSizeX": 50,
 "pixelSizeY": 50,
 "bandCount": 7,
 "pixelType": "F32",
 "minPixelSize": 0,
 "maxPixelSize": 0,
 "copyrightText": "",
 "serviceDataType": "esriImageServiceDataTypeGeneric",
 "minValues": [
  0,
  0,
  0,
  0,
  0,
  0,
  0
 ],
 "maxValues": [
  100.00000762939453,
  100,
  100,
  100,
  100,
  100,
  100
 ],
 "meanValues": [
  71.08329442753052,
  23.392487132018967,
  51.772823338143056,
  7.603832957294649,
  48.95341112354626,
  62.635878960333784,
  38.54972256421898
 ],
 "stdvValues": [
  21.877638221320836,
  28.050956970229983,
  39.62406885868797,
  14.631563495610292,
  25.768632927563534,
  36.74656485489555,
  36.17957398788238
 ],
 "objectIdField": "",
 "fields": [],
 "capabilities": "Image,Metadata,Mensuration",
 "defaultMosaicMethod": "Center",
 "allowedMosaicMethods": "",
 "sortField": "",
 "sortValue": null,
 "mosaicOperator": "First",
 "defaultCompressionQuality": 75,
 "defaultResamplingMethod": "Bilinear",
 "maxImageHeight": 4100,
 "maxImageWidth": 15000,
 "allowRasterFunction": true,
 "rasterFunctionInfos": [
  {
   "name": "None",
   "description": "",
   "help": ""
  }
 ],
 "rasterTypeInfos": [
  {
   "name": "Raster Dataset",
   "description": "Supports all ArcGIS Raster Datasets",
   "help": ""
  }
 ],
 "mensurationCapabilities": "Basic",
 "hasHistograms": true,
 "hasColormap": false,
 "hasRasterAttributeTable": false,
 "minScale": 0,
 "maxScale": 0,
 "exportTilesAllowed": false,
 "hasMultidimensions": false,
 "supportsStatistics": false,
 "supportsAdvancedQueries": false,
 "editFieldsInfo": null,
 "ownershipBasedAccessControlForRasters": null,
 "allowComputeTiePoints": false,
 "useStandardizedQueries": true,
 "advancedQueryCapabilities": {
  "useStandardizedQueries": true,
  "supportsStatistics": false,
  "supportsOrderBy": false,
  "supportsDistinct": false,
  "supportsPagination": false
 },
 "spatialReference": {
  "wkid": 102100,
  "latestWkid": 3857
 }
}
