View In:
ArcGIS JavaScript
ArcGIS Online Map Viewer
ArcGIS Earth
ArcMap
View Footprint In:
ArcGIS Online Map Viewer
Service Description: Caribbean/Restoration_Explorer_Cayman
Name: Caribbean/Restoration_Explorer_Cayman
Description:
Single Fused Map Cache: false
Extent:
XMin: -9069949.0793
YMin: 2181286.417300001
XMax: -9024049.0793
YMax: 2202786.417300001
Spatial Reference: 102100
(3857)
Initial Extent:
XMin: -9069949.0793
YMin: 2181286.417300001
XMax: -9024049.0793
YMax: 2202786.417300001
Spatial Reference: 102100
(3857)
Full Extent:
XMin: -9069949.0793
YMin: 2181286.417300001
XMax: -9024049.0793
YMax: 2202786.417300001
Spatial Reference: 102100
(3857)
Pixel Size X: 50.0
Pixel Size Y: 50.0
Band Count: 7
Pixel Type: F32
RasterFunction Infos: {"rasterFunctionInfos": [{
"name": "None",
"description": "",
"help": ""
}]}
Mensuration Capabilities: Basic
Has Histograms: true
Has Colormap: false
Has Multi Dimensions : false
Rendering Rule:
Min Scale: 0
Max Scale: 0
Copyright Text:
Service Data Type: esriImageServiceDataTypeGeneric
Min Values: 0, 0, 0, 0, 0, 0, 0
Max Values: 100.00000762939453, 100, 100, 100, 100, 100, 100
Mean Values: 71.08329442753052, 23.392487132018967, 51.772823338143056, 7.603832957294649, 48.95341112354626, 62.635878960333784, 38.54972256421898
Standard Deviation Values: 21.877638221320836, 28.050956970229983, 39.62406885868797, 14.631563495610292, 25.768632927563534, 36.74656485489555, 36.17957398788238
Object ID Field:
Fields:
None
Default Mosaic Method: Center
Allowed Mosaic Methods:
SortField:
SortValue: null
Mosaic Operator: First
Default Compression Quality: 75
Default Resampling Method: Bilinear
Max Record Count: null
Max Image Height: 4100
Max Image Width: 15000
Max Download Image Count: null
Max Mosaic Image Count: null
Allow Raster Function: true
Allow Compute TiePoints: false
Supports Statistics: false
Supports Advanced Queries: false
Use StandardizedQueries: true
Raster Type Infos:
Name: Raster Dataset
Description: Supports all ArcGIS Raster Datasets
Help:
Has Raster Attribute Table: false
Edit Fields Info: null
Ownership Based AccessControl For Rasters: null
Child Resources:
Info
Histograms
Key Properties
Legend
MultiDimensionalInfo
rasterFunctionInfos
Supported Operations:
Export Image
Identify
Measure
Compute Histograms
Compute Statistics Histograms
Get Samples
Compute Class Statistics
Query Boundary
Compute Pixel Location