{
 "currentVersion": 10.71,
 "serviceDescription": "Caribbean/Restoration_Explorer_Caribbean",
 "name": "Caribbean/Restoration_Explorer_Caribbean",
 "description": "",
 "extent": {
  "xmin": -9464949.0793,
  "ymin": 1209586.4173000008,
  "xmax": -6605149.079299999,
  "ymax": 3176686.417300001,
  "spatialReference": {
   "wkid": 102100,
   "latestWkid": 3857
  }
 },
 "initialExtent": {
  "xmin": -9464949.0793,
  "ymin": 1209586.4173000008,
  "xmax": -6605149.079299999,
  "ymax": 3176686.417300001,
  "spatialReference": {
   "wkid": 102100,
   "latestWkid": 3857
  }
 },
 "fullExtent": {
  "xmin": -9464949.0793,
  "ymin": 1209586.4173000008,
  "xmax": -6605149.079299999,
  "ymax": 3176686.417300001,
  "spatialReference": {
   "wkid": 102100,
   "latestWkid": 3857
  }
 },
 "pixelSizeX": 7900,
 "pixelSizeY": 7900,
 "bandCount": 8,
 "pixelType": "F32",
 "minPixelSize": 0,
 "maxPixelSize": 0,
 "copyrightText": "",
 "serviceDataType": "esriImageServiceDataTypeGeneric",
 "minValues": [
  0,
  0,
  0,
  0,
  0,
  0,
  0,
  0
 ],
 "maxValues": [
  100,
  100,
  100,
  100,
  100,
  100,
  100,
  100
 ],
 "meanValues": [
  56.71222918462094,
  6.572705597830459,
  20.489708141321046,
  38.382990500601025,
  35.82077718821173,
  7.807576167901631,
  0.7987711213517665,
  53.723525062977075
 ],
 "stdvValues": [
  23.143522053358055,
  14.250999266959376,
  35.30914225964839,
  27.47360471686272,
  29.222675168752858,
  16.171030533662382,
  8.903001073484717,
  27.75138571465792
 ],
 "objectIdField": "",
 "fields": [],
 "capabilities": "Image,Metadata,Mensuration",
 "defaultMosaicMethod": "Center",
 "allowedMosaicMethods": "",
 "sortField": "",
 "sortValue": null,
 "mosaicOperator": "First",
 "defaultCompressionQuality": 75,
 "defaultResamplingMethod": "Bilinear",
 "maxImageHeight": 4100,
 "maxImageWidth": 15000,
 "allowRasterFunction": true,
 "rasterFunctionInfos": [
  {
   "name": "None",
   "description": "",
   "help": ""
  }
 ],
 "rasterTypeInfos": [
  {
   "name": "Raster Dataset",
   "description": "Supports all ArcGIS Raster Datasets",
   "help": ""
  }
 ],
 "mensurationCapabilities": "Basic",
 "hasHistograms": true,
 "hasColormap": false,
 "hasRasterAttributeTable": false,
 "minScale": 0,
 "maxScale": 0,
 "exportTilesAllowed": false,
 "hasMultidimensions": false,
 "supportsStatistics": false,
 "supportsAdvancedQueries": false,
 "editFieldsInfo": null,
 "ownershipBasedAccessControlForRasters": null,
 "allowComputeTiePoints": false,
 "useStandardizedQueries": true,
 "advancedQueryCapabilities": {
  "useStandardizedQueries": true,
  "supportsStatistics": false,
  "supportsOrderBy": false,
  "supportsDistinct": false,
  "supportsPagination": false
 },
 "spatialReference": {
  "wkid": 102100,
  "latestWkid": 3857
 }
}
