View In:
ArcGIS JavaScript
ArcGIS Online Map Viewer
ArcGIS Earth
ArcMap
View Footprint In:
ArcGIS Online Map Viewer
Service Description: Caribbean/Restoration_Explorer_Caribbean
Name: Caribbean/Restoration_Explorer_Caribbean
Description:
Single Fused Map Cache: false
Extent:
XMin: -9464949.0793
YMin: 1209586.4173000008
XMax: -6605149.079299999
YMax: 3176686.417300001
Spatial Reference: 102100
(3857)
Initial Extent:
XMin: -9464949.0793
YMin: 1209586.4173000008
XMax: -6605149.079299999
YMax: 3176686.417300001
Spatial Reference: 102100
(3857)
Full Extent:
XMin: -9464949.0793
YMin: 1209586.4173000008
XMax: -6605149.079299999
YMax: 3176686.417300001
Spatial Reference: 102100
(3857)
Pixel Size X: 7900.0
Pixel Size Y: 7900.0
Band Count: 8
Pixel Type: F32
RasterFunction Infos: {"rasterFunctionInfos": [{
"name": "None",
"description": "",
"help": ""
}]}
Mensuration Capabilities: Basic
Has Histograms: true
Has Colormap: false
Has Multi Dimensions : false
Rendering Rule:
Min Scale: 0
Max Scale: 0
Copyright Text:
Service Data Type: esriImageServiceDataTypeGeneric
Min Values: 0, 0, 0, 0, 0, 0, 0, 0
Max Values: 100, 100, 100, 100, 100, 100, 100, 100
Mean Values: 56.71222918462094, 6.572705597830459, 20.489708141321046, 38.382990500601025, 35.82077718821173, 7.807576167901631, 0.7987711213517665, 53.723525062977075
Standard Deviation Values: 23.143522053358055, 14.250999266959376, 35.30914225964839, 27.47360471686272, 29.222675168752858, 16.171030533662382, 8.903001073484717, 27.75138571465792
Object ID Field:
Fields:
None
Default Mosaic Method: Center
Allowed Mosaic Methods:
SortField:
SortValue: null
Mosaic Operator: First
Default Compression Quality: 75
Default Resampling Method: Bilinear
Max Record Count: null
Max Image Height: 4100
Max Image Width: 15000
Max Download Image Count: null
Max Mosaic Image Count: null
Allow Raster Function: true
Allow Compute TiePoints: false
Supports Statistics: false
Supports Advanced Queries: false
Use StandardizedQueries: true
Raster Type Infos:
Name: Raster Dataset
Description: Supports all ArcGIS Raster Datasets
Help:
Has Raster Attribute Table: false
Edit Fields Info: null
Ownership Based AccessControl For Rasters: null
Child Resources:
Info
Histograms
Key Properties
Legend
MultiDimensionalInfo
rasterFunctionInfos
Supported Operations:
Export Image
Identify
Measure
Compute Histograms
Compute Statistics Histograms
Get Samples
Compute Class Statistics
Query Boundary
Compute Pixel Location